BEGIN:VCALENDAR
VERSION:2.0
PRODID:-//USINDO - ECPv6.15.17.1//NONSGML v1.0//EN
CALSCALE:GREGORIAN
METHOD:PUBLISH
X-WR-CALNAME:USINDO
X-ORIGINAL-URL:https://usindo.org
X-WR-CALDESC:Events for USINDO
REFRESH-INTERVAL;VALUE=DURATION:PT1H
X-Robots-Tag:noindex
X-PUBLISHED-TTL:PT1H
BEGIN:VTIMEZONE
TZID:Asia/Krasnoyarsk
BEGIN:STANDARD
TZOFFSETFROM:+0700
TZOFFSETTO:+0700
TZNAME:+07
DTSTART:20250101T000000
END:STANDARD
END:VTIMEZONE
BEGIN:VEVENT
DTSTART;TZID=Asia/Krasnoyarsk:20260423T093000
DTEND;TZID=Asia/Krasnoyarsk:20260423T093000
DTSTAMP:20260423T013335
CREATED:20260420T094616Z
LAST-MODIFIED:20260420T094659Z
UID:51122-1776936600-1776936600@usindo.org
SUMMARY:Special Open Forum: Indonesia’s Response to the Global Energy Crisis
DESCRIPTION:
URL:https://usindo.org/event/special-open-forum-indonesias-response-to-the-global-energy-crisis/
END:VEVENT
END:VCALENDAR